BEGIN:VCALENDAR
VERSION:2.0
PRODID:-//Vision City Church - ECPv6.15.18//NONSGML v1.0//EN
CALSCALE:GREGORIAN
METHOD:PUBLISH
X-WR-CALNAME:Vision City Church
X-ORIGINAL-URL:https://visioncity.church
X-WR-CALDESC:Events for Vision City Church
REFRESH-INTERVAL;VALUE=DURATION:PT1H
X-Robots-Tag:noindex
X-PUBLISHED-TTL:PT1H
BEGIN:VTIMEZONE
TZID:America/Los_Angeles
BEGIN:DAYLIGHT
TZOFFSETFROM:-0800
TZOFFSETTO:-0700
TZNAME:PDT
DTSTART:20250309T100000
END:DAYLIGHT
BEGIN:STANDARD
TZOFFSETFROM:-0700
TZOFFSETTO:-0800
TZNAME:PST
DTSTART:20251102T090000
END:STANDARD
BEGIN:DAYLIGHT
TZOFFSETFROM:-0800
TZOFFSETTO:-0700
TZNAME:PDT
DTSTART:20260308T100000
END:DAYLIGHT
BEGIN:STANDARD
TZOFFSETFROM:-0700
TZOFFSETTO:-0800
TZNAME:PST
DTSTART:20261101T090000
END:STANDARD
BEGIN:DAYLIGHT
TZOFFSETFROM:-0800
TZOFFSETTO:-0700
TZNAME:PDT
DTSTART:20270314T100000
END:DAYLIGHT
BEGIN:STANDARD
TZOFFSETFROM:-0700
TZOFFSETTO:-0800
TZNAME:PST
DTSTART:20271107T090000
END:STANDARD
END:VTIMEZONE
BEGIN:VEVENT
DTSTART;TZID=America/Los_Angeles:20260421T190000
DTEND;TZID=America/Los_Angeles:20260421T200000
DTSTAMP:20260420T141554
CREATED:20260303T024330Z
LAST-MODIFIED:20260303T024409Z
UID:10001728-1776798000-1776801600@visioncity.church
SUMMARY:Women's Group
DESCRIPTION:Connect with other women for Bible study\, prayer\, and encouragement—all from the comfort of your home.
URL:https://visioncity.church/event/womens-group/2026-04-21/
LOCATION:Jimenez Residence\, 15403 La Casa Drive\, Moreno Valley\, CA\, 92555\, United States
CATEGORIES:Groups,Women
ATTACH;FMTTYPE=image/jpeg:https://visioncity.church/wp-content/uploads/2025/07/IMG_1562.jpg
END:VEVENT
BEGIN:VEVENT
DTSTART;TZID=America/Los_Angeles:20260422T183000
DTEND;TZID=America/Los_Angeles:20260422T193000
DTSTAMP:20260420T141554
CREATED:20250711T025822Z
LAST-MODIFIED:20250811T221718Z
UID:10000846-1776882600-1776886200@visioncity.church
SUMMARY:Youth Groups
DESCRIPTION:Youth Groups are weekly events for students in 6th–12th grade. It’s a time to connect with friends\, enjoy fun activities\, and discover more about God in a way that’s real and relevant. Join us—you won’t want to miss out!
URL:https://visioncity.church/event/youth-groups/2026-04-22/
LOCATION:CA
CATEGORIES:Groups,Youth
ATTACH;FMTTYPE=image/jpeg:https://visioncity.church/wp-content/uploads/2025/07/youth.jpg
END:VEVENT
BEGIN:VEVENT
DTSTART;TZID=America/Los_Angeles:20260501T190000
DTEND;TZID=America/Los_Angeles:20260501T200000
DTSTAMP:20260420T141554
CREATED:20260303T022226Z
LAST-MODIFIED:20260303T023323Z
UID:10001556-1777662000-1777665600@visioncity.church
SUMMARY:Prayer Night
DESCRIPTION:Join us for Prayer Night on the first Friday of every month. This is a special time for our church family to come together\, seek God\, and lift up our needs and praises in a welcoming\, faith-filled environment. Whether you’re new to prayer or have been praying for years\, everyone is welcome. Let’s unite our hearts and experience the power of prayer together!
URL:https://visioncity.church/event/prayer-night/2026-05-01/
LOCATION:Jimenez Residence\, 15403 La Casa Drive\, Moreno Valley\, CA\, 92555\, United States
CATEGORIES:Couples,Men,Prayer,Women,Youth
ATTACH;FMTTYPE=image/jpeg:https://visioncity.church/wp-content/uploads/2025/07/IMG_7632.jpg
END:VEVENT
END:VCALENDAR